BEGIN:VCALENDAR
METHOD:PUBLISH
PRODID:www-medizintechnik-studium-fau-de//Events//DE
VERSION:2.0
BEGIN:VEVENT
SUMMARY:3D-Printed Bioactive Ceramic Scaffolds for Bone Regeneration
UID:e2e1-937e-1900-10960@www.medizintechnik.studium.fau.de
DESCRIPTION:Das Department Werkstoffwissenschaften lädt herzlich zum 
 vierten Vortrag des Werkstoffwissenschaftlichen Kolloquiums im Winters
 emester 2025/26 am Dienstag\, den 18.11.2025\, um 16 Uhr ein. Prof. Dr
 . Eliandra de Sousa\, Department of Science and Technology an der Fede
 ral University of São Paulo\, Brasilien\, hält einen Vortrag mit dem
  Titel: &#8222\;3D-Printed Bioactive Ceramic Scaffolds for Bone Regene
 ration”. Veranstaltungsort: Bernhard-Ilschner-Hörsaal (H14)\, Marte
 nsstr. 5-7\, Erlangen oder in Zoom: Meeting-ID: 633 2071 1359 Zoom cod
 e: 380698
DTSTART:20251118T160000Z
DTEND:20251118T180000Z
LOCATION:H14 oder Zoom
DTSTAMP:20260421T215734Z
END:VEVENT
END:VCALENDAR