BEGIN:VCALENDAR
METHOD:PUBLISH
PRODID:www-medizintechnik-studium-fau-de//Events//DE
VERSION:2.0
BEGIN:VEVENT
SUMMARY:Vortrag: Umgang mit einer heterogenen Studierendenschaft\, 2 AE
UID:20230305T1756240000000000c05d9c1b681279c7fae2291ec5e48786@tf.fau.de
DESCRIPTION:Der Forschungs- und Lehralltag an deutschen Hochschulen en
 twickelt sich mehr und mehr in Richtung eines von Heterogenität gepr
 ägten Mikrokosmos. Studierende unterschiedlicher regionaler Herkunft\
 , verschiedener Nationalitäten und verschiedenen Geschlechts sitzen g
 emeinsam im Vorlesungssaal mit gleichen Lernzielen aber sehr unterschi
 edlichen Lernmodi und Ausgangslagen. Eine höhere Sensibilisierung der
  Lehrenden für die strukturellen und psychologischen Unterschiede der
  Studierenden ist neben der interkulturellen Kompetenz ein wesentliche
 r Schritt in Richtung einer von produktiver und kreativer Heterogenit
 ät geprägten Hochschulwelt. Der interaktive Vortrag diskutiert die N
 otwendigkeit einer flexibleren Didaktik in der Lehre sowie im universi
 tären Alltag und zeigt unterschiedliche methodische Möglichkeiten zu
  ihrer Umsetzung auf. Konkrete Inhalte: Heterogenität in der Studiere
 ndenschaft wahrnehmen Unterrichtsmethoden heterogenitätssensibel pass
 genau anwenden Veranstaltungsort: online Anmeldungsinformationen: http
 s://www.studon.fau.de/crs4874466.html 2 AE für das Zertifikat Hochsch
 ullehre für den Bereich A „Lehr-Lern-Konzepte“ Sprache: Deutsch K
 ontakt: Inhaltlich: Dr. Susanne Frölich-Steffen\, kontakt@rede-schulu
 ng.de Administrativ: Hanna Stöcker\, hanna.stoecker@fau.de
DTSTART:20231122T090000Z
DTEND:20231122T103000Z
LOCATION:online
DTSTAMP:20260426T004540Z
END:VEVENT
END:VCALENDAR